BEGIN:VCALENDAR
VERSION:2.0
PRODID:-//Tukios.com/
BEGIN:VEVENT
UID:8afd3f2f-e63d-4f19-bbcb-f4e0901409a4@www.billicksfuneralhome.com
DTSTAMP:20260420T024203Z
DTSTART:20260425T160000Z
DTEND:20260425T170000Z
SUMMARY:Mass
DESCRIPTION:
URL:https://www.billicksfuneralhome.com/obituaries/rosemarie-paterra
LOCATION:Epiphany of our Lord 44 Pennsylvania Blvd.  Monessen PA 15062
GEO:40.1428129;-79.8844309
END:VEVENT
END:VCALENDAR