BEGIN:VCALENDAR
VERSION:2.0
PRODID:-//Tukios.com/
BEGIN:VEVENT
UID:ed7a5876-1e66-46c3-9954-021a031a2586@www.billicksfuneralhome.com
DTSTAMP:20260420T024442Z
DTSTART:20260425T153000Z
DTEND:20260425T154500Z
SUMMARY:Blessing Service
DESCRIPTION:
URL:https://www.billicksfuneralhome.com/obituaries/rosemarie-paterra
LOCATION:Robert A. Billick Funeral Home Inc. Grand Blvd. & Marion Ave.  
	Monessen PA 15062
GEO:40.1483921;-79.8879271
END:VEVENT
END:VCALENDAR