BEGIN:VCALENDAR
VERSION:2.0
PRODID:-//Tukios.com/
BEGIN:VEVENT
UID:23f2f7e4-5587-4273-8903-497bcd816630@www.billicksfuneralhome.com
DTSTAMP:20260420T025009Z
DTSTART:20260425T140000Z
DTEND:20260425T153000Z
SUMMARY:Visitation
DESCRIPTION:
URL:https://www.billicksfuneralhome.com/obituaries/rosemarie-paterra
LOCATION:Robert A. Billick Funeral Home Inc. Grand Blvd. & Marion Ave.  
	Monessen PA 15062
GEO:40.1483921;-79.8879271
END:VEVENT
END:VCALENDAR